BEGIN:VCALENDAR
VERSION:2.0
PRODID:-//Héric Sports Loisirs - ECPv6.15.17//NONSGML v1.0//EN
CALSCALE:GREGORIAN
METHOD:PUBLISH
X-WR-CALNAME:Héric Sports Loisirs
X-ORIGINAL-URL:https://www.hericsportsloisirs.fr/blog
X-WR-CALDESC:Évènements pour Héric Sports Loisirs
REFRESH-INTERVAL;VALUE=DURATION:PT1H
X-Robots-Tag:noindex
X-PUBLISHED-TTL:PT1H
BEGIN:VTIMEZONE
TZID:Europe/Paris
BEGIN:DAYLIGHT
TZOFFSETFROM:+0100
TZOFFSETTO:+0200
TZNAME:CEST
DTSTART:20220327T010000
END:DAYLIGHT
BEGIN:STANDARD
TZOFFSETFROM:+0200
TZOFFSETTO:+0100
TZNAME:CET
DTSTART:20221030T010000
END:STANDARD
BEGIN:DAYLIGHT
TZOFFSETFROM:+0100
TZOFFSETTO:+0200
TZNAME:CEST
DTSTART:20230326T010000
END:DAYLIGHT
BEGIN:STANDARD
TZOFFSETFROM:+0200
TZOFFSETTO:+0100
TZNAME:CET
DTSTART:20231029T010000
END:STANDARD
BEGIN:DAYLIGHT
TZOFFSETFROM:+0100
TZOFFSETTO:+0200
TZNAME:CEST
DTSTART:20240331T010000
END:DAYLIGHT
BEGIN:STANDARD
TZOFFSETFROM:+0200
TZOFFSETTO:+0100
TZNAME:CET
DTSTART:20241027T010000
END:STANDARD
END:VTIMEZONE
BEGIN:VEVENT
DTSTART;TZID=Europe/Paris:20230608T200000
DTEND;TZID=Europe/Paris:20230608T210000
DTSTAMP:20260425T125316
CREATED:20191005T062625Z
LAST-MODIFIED:20220905T060408Z
UID:7373-1686254400-1686258000@www.hericsportsloisirs.fr
SUMMARY:Assemblée Générale Saison 2022/2023
DESCRIPTION:Héric Sports Loisirs convie tous ses adhérents à son assemblée générale \nà la Halle de sports des Frénouelles d’Héric \nle jeudi 8 juin 2023 \nà 20h
URL:https://www.hericsportsloisirs.fr/blog/evenement/assemblee-generale-saison-2022-2023/
LOCATION:Salle des Frénouelles – Héric\, rue des frenouelles\, HERIC\, 44810
CATEGORIES:Administratif
ATTACH;FMTTYPE=image/png:https://www.hericsportsloisirs.fr/blog/wp-content/uploads/2017/10/logo_carre.png
ORGANIZER;CN="HSL - H%C3%A9ric Sports Loisirs":MAILTO:hericsportsloisirs@gmail.com
END:VEVENT
END:VCALENDAR