BEGIN:VCALENDAR
VERSION:2.0
PRODID:-//Héric Sports Loisirs - ECPv6.15.17//NONSGML v1.0//EN
CALSCALE:GREGORIAN
METHOD:PUBLISH
X-WR-CALNAME:Héric Sports Loisirs
X-ORIGINAL-URL:https://www.hericsportsloisirs.fr/blog
X-WR-CALDESC:Évènements pour Héric Sports Loisirs
REFRESH-INTERVAL;VALUE=DURATION:PT1H
X-Robots-Tag:noindex
X-PUBLISHED-TTL:PT1H
BEGIN:VTIMEZONE
TZID:Europe/Paris
BEGIN:DAYLIGHT
TZOFFSETFROM:+0100
TZOFFSETTO:+0200
TZNAME:CEST
DTSTART:20220327T010000
END:DAYLIGHT
BEGIN:STANDARD
TZOFFSETFROM:+0200
TZOFFSETTO:+0100
TZNAME:CET
DTSTART:20221030T010000
END:STANDARD
BEGIN:DAYLIGHT
TZOFFSETFROM:+0100
TZOFFSETTO:+0200
TZNAME:CEST
DTSTART:20230326T010000
END:DAYLIGHT
BEGIN:STANDARD
TZOFFSETFROM:+0200
TZOFFSETTO:+0100
TZNAME:CET
DTSTART:20231029T010000
END:STANDARD
BEGIN:DAYLIGHT
TZOFFSETFROM:+0100
TZOFFSETTO:+0200
TZNAME:CEST
DTSTART:20240331T010000
END:DAYLIGHT
BEGIN:STANDARD
TZOFFSETFROM:+0200
TZOFFSETTO:+0100
TZNAME:CET
DTSTART:20241027T010000
END:STANDARD
END:VTIMEZONE
BEGIN:VEVENT
DTSTART;TZID=Europe/Paris:20230219T133000
DTEND;TZID=Europe/Paris:20230219T170000
DTSTAMP:20260425T191926
CREATED:20171012T162706Z
LAST-MODIFIED:20220904T132321Z
UID:7239-1676813400-1676826000@www.hericsportsloisirs.fr
SUMMARY:Randonnée à La Paquelais
DESCRIPTION:Organisée par Muriel et François. Randonnée de 9 kms. Départ à 13h30. \nBourg situé sur la commune de Vigneux de Bretagne. L’étymologie qui voudrait que La Paquelais (autrefois Pasque-Lez c’est-à-dire « près de Pâques ») soit liée aux pratiques religieuses de ses habitants\, alors en majorité protestants\, n’a donc aucun lien avec cette période de l’histoire locale. \n   \n 
URL:https://www.hericsportsloisirs.fr/blog/evenement/randonnee-pedestre-a-la-paquelais/
LOCATION:La Paquelais
CATEGORIES:Randonnée
END:VEVENT
END:VCALENDAR