BEGIN:VCALENDAR
VERSION:2.0
PRODID:-//Héric Sports Loisirs - ECPv6.15.17//NONSGML v1.0//EN
CALSCALE:GREGORIAN
METHOD:PUBLISH
X-WR-CALNAME:Héric Sports Loisirs
X-ORIGINAL-URL:https://www.hericsportsloisirs.fr/blog
X-WR-CALDESC:Évènements pour Héric Sports Loisirs
REFRESH-INTERVAL;VALUE=DURATION:PT1H
X-Robots-Tag:noindex
X-PUBLISHED-TTL:PT1H
BEGIN:VTIMEZONE
TZID:Europe/Paris
BEGIN:DAYLIGHT
TZOFFSETFROM:+0100
TZOFFSETTO:+0200
TZNAME:CEST
DTSTART:20220327T010000
END:DAYLIGHT
BEGIN:STANDARD
TZOFFSETFROM:+0200
TZOFFSETTO:+0100
TZNAME:CET
DTSTART:20221030T010000
END:STANDARD
BEGIN:DAYLIGHT
TZOFFSETFROM:+0100
TZOFFSETTO:+0200
TZNAME:CEST
DTSTART:20230326T010000
END:DAYLIGHT
BEGIN:STANDARD
TZOFFSETFROM:+0200
TZOFFSETTO:+0100
TZNAME:CET
DTSTART:20231029T010000
END:STANDARD
BEGIN:DAYLIGHT
TZOFFSETFROM:+0100
TZOFFSETTO:+0200
TZNAME:CEST
DTSTART:20240331T010000
END:DAYLIGHT
BEGIN:STANDARD
TZOFFSETFROM:+0200
TZOFFSETTO:+0100
TZNAME:CET
DTSTART:20241027T010000
END:STANDARD
END:VTIMEZONE
BEGIN:VEVENT
DTSTART;TZID=Europe/Paris:20230122T133000
DTEND;TZID=Europe/Paris:20230122T170000
DTSTAMP:20260425T211424
CREATED:20171012T162706Z
LAST-MODIFIED:20221213T065905Z
UID:7238-1674394200-1674406800@www.hericsportsloisirs.fr
SUMMARY:Randonnée à Treffieux
DESCRIPTION:Organisée par Claudine et Yves. Randonnée de 9 kms. Départ à 13h30. \nSituée au cœur du pays de Châteaubriant\, Treffieux\,commune rurale de 1912 ha. \nSon activité est principalement tournée vers l’activité agricole\, mais l’on y trouve aussi des artisans et des commerçants\, ainsi qu’une entreprise à dimension européenne. \nGrâce à ses nombreuses associations et à leurs actions\, à ses lieux de promenade (comme l’étang de Gruellau) et à ses équipements collectifs (bibliothèque\, salle polyvalente\, un accueil périscolaire\, un terrain de foot\, un centre de secours)\, Treffieux se veut une commune ouverte et dynamique. \nLa qualité des paysages\, le calme\, la convivialité\, la solidarité\, font de Treffieux une commune ouverte sur le monde\, où il fait bon vivre et se retrouver pour des moments de détente et d’échange. \n  
URL:https://www.hericsportsloisirs.fr/blog/evenement/randonnee-pedestre-a-treffieux-2/
LOCATION:Tréffieux
CATEGORIES:Randonnée
END:VEVENT
BEGIN:VEVENT
DTSTART;TZID=Europe/Paris:20230122T133000
DTEND;TZID=Europe/Paris:20230122T200000
DTSTAMP:20260425T211424
CREATED:20171210T195839Z
LAST-MODIFIED:20230116T123000Z
UID:7376-1674394200-1674417600@www.hericsportsloisirs.fr
SUMMARY:Galette des rois HSL et/ou après-midi sportive
DESCRIPTION:Afin de fêter la nouvelle année comme il se doit\, votre association vous invite \nà une après-midi plus ou moins sportive à la salle des Frénouelles \nle dimanche 22  janvier 2023 \n  \n\n\n\n3 formules s’offrent à vous :\n– la Sportive : Randonnée ou Badminton à partir de 13h30\n– la Gourmande : Galette des rois à partir de 18h\n– la Complète ( Sportive + Gourmande) \nDétail du programme : \n\nPour la randonnée\, départ à 13H30 pour Treffieux : circuit de 9 kms.\nPour le badminton\, à partir de 13h30\, nous vous proposons une après-midi ludique rythmée par des matchs amicaux mixant les équipes (ouverts aux adhérents des sections jeunes et adultes)\nPour l’ensemble de la famille\, à partir de 18h\, un léger buffet campagnard sera proposé avant la galette des rois.\n\n\nInscriptions closes
URL:https://www.hericsportsloisirs.fr/blog/evenement/galette-des-rois-hsl-et-ou-apres-midi-sportive-3/
LOCATION:HSL – Halle de sports rue des Frenouelles\, rue des frenouelles\, HERIC\, 44810
CATEGORIES:Convivialité,Randonnée,Tournoi Adultes,Tournoi Jeunes
ATTACH;FMTTYPE=image/jpeg:https://www.hericsportsloisirs.fr/blog/wp-content/uploads/2017/12/Galette-des-Rois_landscape1-400x224.jpg
ORGANIZER;CN="HSL - H%C3%A9ric Sports Loisirs":MAILTO:hericsportsloisirs@gmail.com
END:VEVENT
END:VCALENDAR