BEGIN:VCALENDAR
VERSION:2.0
PRODID:-//Héric Sports Loisirs - ECPv6.15.17//NONSGML v1.0//EN
CALSCALE:GREGORIAN
METHOD:PUBLISH
X-WR-CALNAME:Héric Sports Loisirs
X-ORIGINAL-URL:https://www.hericsportsloisirs.fr/blog
X-WR-CALDESC:Évènements pour Héric Sports Loisirs
REFRESH-INTERVAL;VALUE=DURATION:PT1H
X-Robots-Tag:noindex
X-PUBLISHED-TTL:PT1H
BEGIN:VTIMEZONE
TZID:Europe/Paris
BEGIN:DAYLIGHT
TZOFFSETFROM:+0100
TZOFFSETTO:+0200
TZNAME:CEST
DTSTART:20210328T010000
END:DAYLIGHT
BEGIN:STANDARD
TZOFFSETFROM:+0200
TZOFFSETTO:+0100
TZNAME:CET
DTSTART:20211031T010000
END:STANDARD
BEGIN:DAYLIGHT
TZOFFSETFROM:+0100
TZOFFSETTO:+0200
TZNAME:CEST
DTSTART:20220327T010000
END:DAYLIGHT
BEGIN:STANDARD
TZOFFSETFROM:+0200
TZOFFSETTO:+0100
TZNAME:CET
DTSTART:20221030T010000
END:STANDARD
BEGIN:DAYLIGHT
TZOFFSETFROM:+0100
TZOFFSETTO:+0200
TZNAME:CEST
DTSTART:20230326T010000
END:DAYLIGHT
BEGIN:STANDARD
TZOFFSETFROM:+0200
TZOFFSETTO:+0100
TZNAME:CET
DTSTART:20231029T010000
END:STANDARD
END:VTIMEZONE
BEGIN:VEVENT
DTSTART;TZID=Europe/Paris:20220903T140000
DTEND;TZID=Europe/Paris:20220903T180000
DTSTAMP:20260426T035627
CREATED:20180829T214536Z
LAST-MODIFIED:20220901T053715Z
UID:7215-1662213600-1662228000@www.hericsportsloisirs.fr
SUMMARY:Forum des Associations
DESCRIPTION:Héric Sports Loisirs sera présent au Forum des Associations d’Héric \n le samedi 3 septembre de 14h à 18h au complexe sportif des Frénouelles
URL:https://www.hericsportsloisirs.fr/blog/evenement/forum-des-associations-4/
LOCATION:Salle des Frénouelles – Héric\, rue des frenouelles\, HERIC\, 44810
ATTACH;FMTTYPE=image/jpeg:https://www.hericsportsloisirs.fr/blog/wp-content/uploads/2018/08/affiche.jpg
ORGANIZER;CN="HSL - H%C3%A9ric Sports Loisirs":MAILTO:hericsportsloisirs@gmail.com
END:VEVENT
BEGIN:VEVENT
DTSTART;TZID=Europe/Paris:20220918T083000
DTEND;TZID=Europe/Paris:20220918T170000
DTSTAMP:20260426T035627
CREATED:20190908T211548Z
LAST-MODIFIED:20220911T095326Z
UID:6483-1663489800-1663520400@www.hericsportsloisirs.fr
SUMMARY:Randonnée à St Hilaire de Riez
DESCRIPTION:Organisée par Bernadette \nRandonnée de 17 kms à St Hilaire de Riez. Départ à 8h30. Prévoir son pique-nique. \nSaint Hilaire de Riez c’est une diversité de paysages pour les amoureux de la nature en quête de calme et de sérénité : une côte rocheuse\, des plages de sable\, une forêt domaniale\, des marais doux\, breton et salés. \n   
URL:https://www.hericsportsloisirs.fr/blog/evenement/randonnee-a/
CATEGORIES:Randonnée
END:VEVENT
END:VCALENDAR